BEGIN:VCALENDAR
VERSION:2.0
PRODID:-//Jewels Outreach - ECPv6.15.20//NONSGML v1.0//EN
CALSCALE:GREGORIAN
METHOD:PUBLISH
X-ORIGINAL-URL:https://jewelsoutreach.com
X-WR-CALDESC:Events for Jewels Outreach
REFRESH-INTERVAL;VALUE=DURATION:PT1H
X-Robots-Tag:noindex
X-PUBLISHED-TTL:PT1H
BEGIN:VTIMEZONE
TZID:America/New_York
BEGIN:DAYLIGHT
TZOFFSETFROM:-0500
TZOFFSETTO:-0400
TZNAME:EDT
DTSTART:20240310T070000
END:DAYLIGHT
BEGIN:STANDARD
TZOFFSETFROM:-0400
TZOFFSETTO:-0500
TZNAME:EST
DTSTART:20241103T060000
END:STANDARD
BEGIN:DAYLIGHT
TZOFFSETFROM:-0500
TZOFFSETTO:-0400
TZNAME:EDT
DTSTART:20250309T070000
END:DAYLIGHT
BEGIN:STANDARD
TZOFFSETFROM:-0400
TZOFFSETTO:-0500
TZNAME:EST
DTSTART:20251102T060000
END:STANDARD
BEGIN:DAYLIGHT
TZOFFSETFROM:-0500
TZOFFSETTO:-0400
TZNAME:EDT
DTSTART:20260308T070000
END:DAYLIGHT
BEGIN:STANDARD
TZOFFSETFROM:-0400
TZOFFSETTO:-0500
TZNAME:EST
DTSTART:20261101T060000
END:STANDARD
END:VTIMEZONE
BEGIN:VEVENT
DTSTART;TZID=America/New_York:20250703T180000
DTEND;TZID=America/New_York:20250703T190000
DTSTAMP:20260421T132105
CREATED:20240704T013939Z
LAST-MODIFIED:20250530T025450Z
UID:613-1751565600-1751569200@jewelsoutreach.com
SUMMARY:There is a King In You - Monthly Workshop
DESCRIPTION:
URL:https://jewelsoutreach.com/event/there-is-a-king-in-you/
LOCATION:Families Moving Forward\, 300 N Queen St.\, Durham\, NC\, 27701\, United States
CATEGORIES:There is a King in You
ATTACH;FMTTYPE=image/jpeg:https://jewelsoutreach.com/wp-content/uploads/2025/05/image7.jpeg
END:VEVENT
END:VCALENDAR