BEGIN:VCALENDAR
VERSION:2.0
PRODID:-//Jewels Outreach - ECPv6.15.20//NONSGML v1.0//EN
CALSCALE:GREGORIAN
METHOD:PUBLISH
X-WR-CALNAME:Jewels Outreach
X-ORIGINAL-URL:https://jewelsoutreach.com
X-WR-CALDESC:Events for Jewels Outreach
REFRESH-INTERVAL;VALUE=DURATION:PT1H
X-Robots-Tag:noindex
X-PUBLISHED-TTL:PT1H
BEGIN:VTIMEZONE
TZID:America/New_York
BEGIN:DAYLIGHT
TZOFFSETFROM:-0500
TZOFFSETTO:-0400
TZNAME:EDT
DTSTART:20240310T070000
END:DAYLIGHT
BEGIN:STANDARD
TZOFFSETFROM:-0400
TZOFFSETTO:-0500
TZNAME:EST
DTSTART:20241103T060000
END:STANDARD
BEGIN:DAYLIGHT
TZOFFSETFROM:-0500
TZOFFSETTO:-0400
TZNAME:EDT
DTSTART:20250309T070000
END:DAYLIGHT
BEGIN:STANDARD
TZOFFSETFROM:-0400
TZOFFSETTO:-0500
TZNAME:EST
DTSTART:20251102T060000
END:STANDARD
BEGIN:DAYLIGHT
TZOFFSETFROM:-0500
TZOFFSETTO:-0400
TZNAME:EDT
DTSTART:20260308T070000
END:DAYLIGHT
BEGIN:STANDARD
TZOFFSETFROM:-0400
TZOFFSETTO:-0500
TZNAME:EST
DTSTART:20261101T060000
END:STANDARD
END:VTIMEZONE
BEGIN:VEVENT
DTSTART;TZID=America/New_York:20250602T180000
DTEND;TZID=America/New_York:20250602T193000
DTSTAMP:20260421T143507
CREATED:20240603T014535Z
LAST-MODIFIED:20250529T023023Z
UID:632-1748887200-1748892600@jewelsoutreach.com
SUMMARY:Families Moving Forward Birthday Celebration
DESCRIPTION:
URL:https://jewelsoutreach.com/event/families-moving-forward-birthday-celebration/
LOCATION:Families Moving Forward\, 300 N Queen St.\, Durham\, NC\, 27701\, United States
ATTACH;FMTTYPE=image/jpeg:https://jewelsoutreach.com/wp-content/uploads/2025/05/image0-2.jpeg
END:VEVENT
END:VCALENDAR