BEGIN:VCALENDAR
VERSION:2.0
PRODID:-//Jewels Outreach - ECPv6.15.20//NONSGML v1.0//EN
CALSCALE:GREGORIAN
METHOD:PUBLISH
X-ORIGINAL-URL:https://jewelsoutreach.com
X-WR-CALDESC:Events for Jewels Outreach
REFRESH-INTERVAL;VALUE=DURATION:PT1H
X-Robots-Tag:noindex
X-PUBLISHED-TTL:PT1H
BEGIN:VTIMEZONE
TZID:America/New_York
BEGIN:DAYLIGHT
TZOFFSETFROM:-0500
TZOFFSETTO:-0400
TZNAME:EDT
DTSTART:20240310T070000
END:DAYLIGHT
BEGIN:STANDARD
TZOFFSETFROM:-0400
TZOFFSETTO:-0500
TZNAME:EST
DTSTART:20241103T060000
END:STANDARD
BEGIN:DAYLIGHT
TZOFFSETFROM:-0500
TZOFFSETTO:-0400
TZNAME:EDT
DTSTART:20250309T070000
END:DAYLIGHT
BEGIN:STANDARD
TZOFFSETFROM:-0400
TZOFFSETTO:-0500
TZNAME:EST
DTSTART:20251102T060000
END:STANDARD
BEGIN:DAYLIGHT
TZOFFSETFROM:-0500
TZOFFSETTO:-0400
TZNAME:EDT
DTSTART:20260308T070000
END:DAYLIGHT
BEGIN:STANDARD
TZOFFSETFROM:-0400
TZOFFSETTO:-0500
TZNAME:EST
DTSTART:20261101T060000
END:STANDARD
BEGIN:DAYLIGHT
TZOFFSETFROM:-0500
TZOFFSETTO:-0400
TZNAME:EDT
DTSTART:20270314T070000
END:DAYLIGHT
BEGIN:STANDARD
TZOFFSETFROM:-0400
TZOFFSETTO:-0500
TZNAME:EST
DTSTART:20271107T060000
END:STANDARD
END:VTIMEZONE
BEGIN:VEVENT
DTSTART;TZID=America/New_York:20250308T093000
DTEND;TZID=America/New_York:20250308T103000
DTSTAMP:20260421T220636
CREATED:20250305T152145Z
LAST-MODIFIED:20250305T152158Z
UID:524-1741426200-1741429800@jewelsoutreach.com
SUMMARY:Jewels Feeding Friends
DESCRIPTION:
URL:https://jewelsoutreach.com/event/jewels-feeding-friends-2/
LOCATION:Monroe Christian Church\, 1701 Sherman Ave\, Durham\, NC\, 27701\, United States
END:VEVENT
BEGIN:VEVENT
DTSTART;TZID=America/New_York:20250405T100000
DTEND;TZID=America/New_York:20250405T120000
DTSTAMP:20260421T220636
CREATED:20250304T172726Z
LAST-MODIFIED:20250304T172732Z
UID:511-1743847200-1743854400@jewelsoutreach.com
SUMMARY:Financial Wellness Workshop
DESCRIPTION:
URL:https://jewelsoutreach.com/event/financial-wellness-workshop/
LOCATION:Sweet Lovable Chocolates\, 810 Fayetteville Street\, Suite 104\, Durham\, NC\, 27701\, United States
END:VEVENT
BEGIN:VEVENT
DTSTART;TZID=America/New_York:20250503T110000
DTEND;TZID=America/New_York:20250503T130000
DTSTAMP:20260421T220636
CREATED:20241025T011003Z
LAST-MODIFIED:20241025T014939Z
UID:499-1746270000-1746277200@jewelsoutreach.com
SUMMARY:Brunch and Bags
DESCRIPTION:
URL:https://jewelsoutreach.com/event/brunch-and-bags/
LOCATION:Oakwood Park\, 411 Oakwood Ave\, Durham\, NC\, 27701\, United States
ATTACH;FMTTYPE=image/png:https://jewelsoutreach.com/wp-content/uploads/2024/10/brunchandbags.png
END:VEVENT
BEGIN:VEVENT
DTSTART;TZID=America/New_York:20250602T180000
DTEND;TZID=America/New_York:20250602T193000
DTSTAMP:20260421T220636
CREATED:20240603T014535Z
LAST-MODIFIED:20250529T023023Z
UID:632-1748887200-1748892600@jewelsoutreach.com
SUMMARY:Families Moving Forward Birthday Celebration
DESCRIPTION:
URL:https://jewelsoutreach.com/event/families-moving-forward-birthday-celebration/
LOCATION:Families Moving Forward\, 300 N Queen St.\, Durham\, NC\, 27701\, United States
ATTACH;FMTTYPE=image/jpeg:https://jewelsoutreach.com/wp-content/uploads/2025/05/image0-2.jpeg
END:VEVENT
BEGIN:VEVENT
DTSTART;TZID=America/New_York:20250703T180000
DTEND;TZID=America/New_York:20250703T190000
DTSTAMP:20260421T220636
CREATED:20240704T013939Z
LAST-MODIFIED:20250530T025450Z
UID:613-1751565600-1751569200@jewelsoutreach.com
SUMMARY:There is a King In You - Monthly Workshop
DESCRIPTION:
URL:https://jewelsoutreach.com/event/there-is-a-king-in-you/
LOCATION:Families Moving Forward\, 300 N Queen St.\, Durham\, NC\, 27701\, United States
CATEGORIES:There is a King in You
ATTACH;FMTTYPE=image/jpeg:https://jewelsoutreach.com/wp-content/uploads/2025/05/image7.jpeg
END:VEVENT
BEGIN:VEVENT
DTSTART;TZID=America/New_York:20250802T120000
DTEND;TZID=America/New_York:20250802T150000
DTSTAMP:20260421T220636
CREATED:20240803T014426Z
LAST-MODIFIED:20250530T033152Z
UID:630-1754136000-1754146800@jewelsoutreach.com
SUMMARY:Jewels Family Reunion
DESCRIPTION:
URL:https://jewelsoutreach.com/event/jewels-family-reunion/
LOCATION:Oakwood Park\, 411 Oakwood Ave\, Durham\, NC\, 27701\, United States
CATEGORIES:Feeding Friends
ATTACH;FMTTYPE=image/jpeg:https://jewelsoutreach.com/wp-content/uploads/2025/05/image1-1.jpeg
END:VEVENT
BEGIN:VEVENT
DTSTART;TZID=America/New_York:20251018T190000
DTEND;TZID=America/New_York:20251018T230000
DTSTAMP:20260421T220636
CREATED:20241018T185916Z
LAST-MODIFIED:20250529T023701Z
UID:529-1760814000-1760828400@jewelsoutreach.com
SUMMARY:Pajamas and Pearls
DESCRIPTION:
URL:https://jewelsoutreach.com/event/pajamas-and-pearls/
LOCATION:Durham Hilton\, 3800 Hillsborough Road\, Durham\, NC\, 27705\, United States
ATTACH;FMTTYPE=image/jpeg:https://jewelsoutreach.com/wp-content/uploads/2025/04/image-1-e1745598430702.jpg
END:VEVENT
BEGIN:VEVENT
DTSTART;TZID=America/New_York:20251108T150000
DTEND;TZID=America/New_York:20251108T180000
DTSTAMP:20260421T220636
CREATED:20241102T014318Z
LAST-MODIFIED:20250530T033229Z
UID:627-1762614000-1762624800@jewelsoutreach.com
SUMMARY:Thanksgiving in the Park
DESCRIPTION:
URL:https://jewelsoutreach.com/event/thanksgiving-in-the-park-2/
LOCATION:Durham Central Park\, 501 Foster St\, Durham\, NC\, 27701\, United States
CATEGORIES:Feeding Friends
ATTACH;FMTTYPE=image/jpeg:https://jewelsoutreach.com/wp-content/uploads/2025/05/image4.jpeg
END:VEVENT
BEGIN:VEVENT
DTSTART;TZID=America/New_York:20251205T190000
DTEND;TZID=America/New_York:20251205T230000
DTSTAMP:20260421T220636
CREATED:20250529T014118Z
LAST-MODIFIED:20251201T220207Z
UID:625-1764961200-1764975600@jewelsoutreach.com
SUMMARY:2025 Giving Gala
DESCRIPTION:You are cordially invited to a celebratory occasion of reflection. As a community\, we have achieved significant milestones and would be honored to share this celebration with you. \n 
URL:https://jewelsoutreach.com/event/giving-gala/
LOCATION:Durham Hilton\, 3800 Hillsborough Road\, Durham\, NC\, 27705\, United States
CATEGORIES:Giving Gala
ATTACH;FMTTYPE=image/jpeg:https://jewelsoutreach.com/wp-content/uploads/2025/05/image5.jpeg
END:VEVENT
BEGIN:VEVENT
DTSTART;TZID=America/New_York:20260614T140000
DTEND;TZID=America/New_York:20260614T170000
DTSTAMP:20260421T220636
CREATED:20260226T003334Z
LAST-MODIFIED:20260304T000632Z
UID:1044-1781445600-1781456400@jewelsoutreach.com
SUMMARY:Juneteenth Authors and Artist Expo
DESCRIPTION:Free to the Public!!Family Friendly Juneteenth Celebration \n\n\n\n\n\n\n\n\n\n\n\n\n\n\n\n\n\n\n\n\n\n\nVendor Registration\n\n\n\n\n\n\n\n\nTickets
URL:https://jewelsoutreach.com/event/authors-and-artist-expo/
ATTACH;FMTTYPE=image/jpeg:https://jewelsoutreach.com/wp-content/uploads/2026/02/IMG_0835.jpg.jpeg
END:VEVENT
END:VCALENDAR