BEGIN:VCALENDAR
VERSION:2.0
PRODID:-//Jewels Outreach - ECPv6.15.20//NONSGML v1.0//EN
CALSCALE:GREGORIAN
METHOD:PUBLISH
X-ORIGINAL-URL:https://jewelsoutreach.com
X-WR-CALDESC:Events for Jewels Outreach
REFRESH-INTERVAL;VALUE=DURATION:PT1H
X-Robots-Tag:noindex
X-PUBLISHED-TTL:PT1H
BEGIN:VTIMEZONE
TZID:America/New_York
BEGIN:DAYLIGHT
TZOFFSETFROM:-0500
TZOFFSETTO:-0400
TZNAME:EDT
DTSTART:20240310T070000
END:DAYLIGHT
BEGIN:STANDARD
TZOFFSETFROM:-0400
TZOFFSETTO:-0500
TZNAME:EST
DTSTART:20241103T060000
END:STANDARD
BEGIN:DAYLIGHT
TZOFFSETFROM:-0500
TZOFFSETTO:-0400
TZNAME:EDT
DTSTART:20250309T070000
END:DAYLIGHT
BEGIN:STANDARD
TZOFFSETFROM:-0400
TZOFFSETTO:-0500
TZNAME:EST
DTSTART:20251102T060000
END:STANDARD
BEGIN:DAYLIGHT
TZOFFSETFROM:-0500
TZOFFSETTO:-0400
TZNAME:EDT
DTSTART:20260308T070000
END:DAYLIGHT
BEGIN:STANDARD
TZOFFSETFROM:-0400
TZOFFSETTO:-0500
TZNAME:EST
DTSTART:20261101T060000
END:STANDARD
END:VTIMEZONE
BEGIN:VEVENT
DTSTART;TZID=America/New_York:20250802T120000
DTEND;TZID=America/New_York:20250802T150000
DTSTAMP:20260421T081616
CREATED:20240803T014426Z
LAST-MODIFIED:20250530T033152Z
UID:630-1754136000-1754146800@jewelsoutreach.com
SUMMARY:Jewels Family Reunion
DESCRIPTION:
URL:https://jewelsoutreach.com/event/jewels-family-reunion/
LOCATION:Oakwood Park\, 411 Oakwood Ave\, Durham\, NC\, 27701\, United States
CATEGORIES:Feeding Friends
ATTACH;FMTTYPE=image/jpeg:https://jewelsoutreach.com/wp-content/uploads/2025/05/image1-1.jpeg
END:VEVENT
END:VCALENDAR