BEGIN:VCALENDAR
VERSION:2.0
PRODID:-//Jewels Outreach - ECPv6.15.20//NONSGML v1.0//EN
CALSCALE:GREGORIAN
METHOD:PUBLISH
X-WR-CALNAME:Jewels Outreach
X-ORIGINAL-URL:https://jewelsoutreach.com
X-WR-CALDESC:Events for Jewels Outreach
REFRESH-INTERVAL;VALUE=DURATION:PT1H
X-Robots-Tag:noindex
X-PUBLISHED-TTL:PT1H
BEGIN:VTIMEZONE
TZID:America/New_York
BEGIN:DAYLIGHT
TZOFFSETFROM:-0500
TZOFFSETTO:-0400
TZNAME:EDT
DTSTART:20230312T070000
END:DAYLIGHT
BEGIN:STANDARD
TZOFFSETFROM:-0400
TZOFFSETTO:-0500
TZNAME:EST
DTSTART:20231105T060000
END:STANDARD
BEGIN:DAYLIGHT
TZOFFSETFROM:-0500
TZOFFSETTO:-0400
TZNAME:EDT
DTSTART:20240310T070000
END:DAYLIGHT
BEGIN:STANDARD
TZOFFSETFROM:-0400
TZOFFSETTO:-0500
TZNAME:EST
DTSTART:20241103T060000
END:STANDARD
BEGIN:DAYLIGHT
TZOFFSETFROM:-0500
TZOFFSETTO:-0400
TZNAME:EDT
DTSTART:20250309T070000
END:DAYLIGHT
BEGIN:STANDARD
TZOFFSETFROM:-0400
TZOFFSETTO:-0500
TZNAME:EST
DTSTART:20251102T060000
END:STANDARD
END:VTIMEZONE
BEGIN:VEVENT
DTSTART;TZID=America/New_York:20241116T080000
DTEND;TZID=America/New_York:20241116T140000
DTSTAMP:20260422T004051
CREATED:20241023T013912Z
LAST-MODIFIED:20241023T014631Z
UID:430-1731744000-1731765600@jewelsoutreach.com
SUMMARY:Triangle Toy Takeaway
DESCRIPTION:Triangle Toy Takeaway is in part funded by the generosity of New Horizon Church’s attendees who gave towards this event in our 2023 End of Year Offering\, but we still need your toy donations to be able to help as many families as we can this Christmas season! Donate your new or gently used toys at: \nWe will be accepting donations Sunday\, September 1 – Tuesday\, November 12.\nSundays: 9am-12pm\nMondays – Thursdays: 9am-5pm \nAre you an organization or business interested in becoming a donation site? Email us at dani@newhorizonchurch.tv.
URL:https://jewelsoutreach.com/event/triangle-toy-takeaway/
LOCATION:New Horizon Church\, 100 Horizon Place\, Durham\, NC\, 27705\, United States
ATTACH;FMTTYPE=image/jpeg:https://jewelsoutreach.com/wp-content/uploads/2024/10/toygiveaway.jpg
ORGANIZER;CN="Rich in Grace Ministries":MAILTO:dani@newhorizonchurch.tv
END:VEVENT
END:VCALENDAR